BEGIN:VCALENDAR
VERSION:2.0
PRODID:hinto.net
X-PUBLISHED-TTL:P1W
BEGIN:VEVENT
UID:hinto.net-event_show-6930342
DTSTART:20260425T200000
SEQUENCE:0
CREATED:20260421T030925
LAST-MODIFIED:20260421T030925
TRANSP:OPAQUE
DTEND:20260425T214500
LOCATION:Theater Matte
SUMMARY:Zurück auf Anfang
CLASS:PUBLIC
DESCRIPTION:
ORGANIZER:
DTSTAMP:20260421T095346
ATTACH:https://www.hinto.ch/de/events/zurueck-auf-anfang-25-04-2026-2000-theater-matte-bern-e2844685-20.html
END:VEVENT
END:VCALENDAR
