BEGIN:VCALENDAR
VERSION:2.0
PRODID:hinto.net
X-PUBLISHED-TTL:P1W
BEGIN:VEVENT
UID:hinto.net-event_show-6930052
DTSTART:20260523T200000
SEQUENCE:0
CREATED:20260420T222354
LAST-MODIFIED:20260420T222354
TRANSP:OPAQUE

LOCATION:Toms Beer Box
SUMMARY:Fräeser und Oxxon
CLASS:PUBLIC
DESCRIPTION:
ORGANIZER:
DTSTAMP:20260421T080016
ATTACH:https://www.hinto.ch/de/events/fraeeser-und-oxxon-23-05-2026-2000-toms-beer-box-chur-e2851869-20.html
END:VEVENT
END:VCALENDAR
