BEGIN:VCALENDAR
VERSION:2.0
PRODID:hinto.net
X-PUBLISHED-TTL:P1W
BEGIN:VEVENT
UID:hinto.net-event_show-6929947
DTSTART:20260429T200000
SEQUENCE:0
CREATED:20260420T222316
LAST-MODIFIED:20260420T222316
TRANSP:OPAQUE

LOCATION:Manoir de Martigny
SUMMARY:LE LABO D'APOI
CLASS:PUBLIC
DESCRIPTION:
ORGANIZER:
DTSTAMP:20260424T135613
ATTACH:https://www.hinto.ch/de/events/le-labo-dapoi-29-04-2026-2000-manoir-de-martigny-martigny-e2851801-20.html
END:VEVENT
END:VCALENDAR
