BEGIN:VCALENDAR
VERSION:2.0
PRODID:hinto.net
X-PUBLISHED-TTL:P1W
BEGIN:VEVENT
UID:hinto.net-event_show-6941972
DTSTART:20260527T180000
SEQUENCE:0
CREATED:20260423T032140
LAST-MODIFIED:20260423T032140
TRANSP:OPAQUE

LOCATION:Süd Bar
SUMMARY:Südbar
CLASS:PUBLIC
DESCRIPTION:
ORGANIZER:
DTSTAMP:20260424T185611
ATTACH:https://www.hinto.ch/de/events/suedbar-27-05-2026-1800-sued-bar-st-gallen-e2851878-20.html
END:VEVENT
END:VCALENDAR
