BEGIN:VCALENDAR
VERSION:2.0
PRODID:hinto.net
X-PUBLISHED-TTL:P1W
BEGIN:VEVENT
UID:hinto.net-event_show-6748424
DTSTART:20260425T210000
SEQUENCE:0
CREATED:20260225T025235
LAST-MODIFIED:20260225T025235
TRANSP:OPAQUE

LOCATION:Atlantis
SUMMARY:Tanznacht40
CLASS:PUBLIC
DESCRIPTION:
ORGANIZER:
DTSTAMP:20260424T234023
ATTACH:https://www.hinto.ch/de/events/tanznacht40-25-04-2026-2100-atlantis-basel-e125678-20.html
END:VEVENT
END:VCALENDAR
