BEGIN:VCALENDAR
VERSION:2.0
PRODID:hinto.net
X-PUBLISHED-TTL:P1W
BEGIN:VEVENT
UID:hinto.net-event_show-6930687
DTSTART:20260520T190000
SEQUENCE:0
CREATED:20260421T031211
LAST-MODIFIED:20260421T031211
TRANSP:OPAQUE
DTEND:20260520T220000
LOCATION:Samariterverein Basel-Klein-Basel
SUMMARY:BLS-AED-SRC Komplett
CLASS:PUBLIC
DESCRIPTION:
ORGANIZER:
DTSTAMP:20260421T073630
ATTACH:https://www.hinto.ch/de/events/bls-aed-src-komplett-20-05-2026-1900-samariterverein-basel-klein-basel-basel-e2852075-20.html
END:VEVENT
END:VCALENDAR
