BEGIN:VCALENDAR
VERSION:2.0
PRODID:hinto.net
X-PUBLISHED-TTL:P1W
BEGIN:VEVENT
UID:hinto.net-event_show-6930173
DTSTART:20260425T143000
SEQUENCE:0
CREATED:20260420T222622
LAST-MODIFIED:20260420T222622
TRANSP:OPAQUE

LOCATION:Berner Puppen Theater
SUMMARY:Peter und der Wolf
CLASS:PUBLIC
DESCRIPTION:
ORGANIZER:
DTSTAMP:20260424T113815
ATTACH:https://www.hinto.ch/de/events/peter-und-der-wolf-25-04-2026-1430-berner-puppen-theater-bern-e2851932-20.html
END:VEVENT
END:VCALENDAR
