BEGIN:VCALENDAR
VERSION:2.0
PRODID:hinto.net
X-PUBLISHED-TTL:P1W
BEGIN:VEVENT
UID:hinto.net-event_show-6893731
DTSTART:20260425T200000
SEQUENCE:0
CREATED:20260409T055803
LAST-MODIFIED:20260409T055803
TRANSP:OPAQUE

LOCATION:Temple du Bas
SUMMARY:Spectacle musical "Génération 80"
CLASS:PUBLIC
DESCRIPTION:
ORGANIZER:
DTSTAMP:20260419T231228
ATTACH:https://www.hinto.ch/de/events/spectacle-musical-generation-80-25-04-2026-2000-temple-du-bas-neuchatel-e2819707-20.html
END:VEVENT
END:VCALENDAR
