BEGIN:VCALENDAR
VERSION:2.0
PRODID:hinto.net
X-PUBLISHED-TTL:P1W
BEGIN:VEVENT
UID:hinto.net-event_show-6810269
DTSTART:20260426T160000
SEQUENCE:0
CREATED:20260313T034838
LAST-MODIFIED:20260313T034838
TRANSP:OPAQUE
DTEND:20260426T180000
LOCATION:VIDMARHALLEN
SUMMARY:TROPHÄE - Bühnen Bern
CLASS:PUBLIC
DESCRIPTION:
ORGANIZER:
DTSTAMP:20260424T163941
ATTACH:https://www.hinto.ch/de/events/trophaee-buehnen-bern-26-04-2026-1600-vidmarhallen-liebefeld-e2746548-20.html
END:VEVENT
END:VCALENDAR
