BEGIN:VCALENDAR
VERSION:2.0
PRODID:hinto.net
X-PUBLISHED-TTL:P1W
BEGIN:VEVENT
UID:hinto.net-event_show-6929960
DTSTART:20260430T190000
SEQUENCE:0
CREATED:20260420T222322
LAST-MODIFIED:20260420T222322
TRANSP:OPAQUE

LOCATION:Espace 100 titres
SUMMARY:UFALAP 26
CLASS:PUBLIC
DESCRIPTION:
ORGANIZER:
DTSTAMP:20260421T022640
ATTACH:https://www.hinto.ch/de/events/ufalap-26-30-04-2026-1900-espace-100-titres-sierre-e2851811-20.html
END:VEVENT
END:VCALENDAR
