BEGIN:VCALENDAR
VERSION:2.0
PRODID:hinto.net
X-PUBLISHED-TTL:P1W
BEGIN:VEVENT
UID:hinto.net-event_show-6948316
DTSTART:20260428T200000
SEQUENCE:0
CREATED:20260424T100644
LAST-MODIFIED:20260424T100644
TRANSP:OPAQUE

LOCATION:Bierhübeli
SUMMARY:REDMAN
CLASS:PUBLIC
DESCRIPTION:
ORGANIZER:
DTSTAMP:20260425T041427
ATTACH:https://www.hinto.ch/de/events/redman-28-04-2026-2000-bierhuebeli-bern-e2863256-20.html
END:VEVENT
END:VCALENDAR
