BEGIN:VCALENDAR
VERSION:2.0
PRODID:hinto.net
X-PUBLISHED-TTL:P1W
BEGIN:VEVENT
UID:hinto.net-event_show-6296343
DTSTART:20260502T200000
SEQUENCE:0
CREATED:20250927T080131
LAST-MODIFIED:20250927T080131
TRANSP:OPAQUE
DTEND:20260502T222000
LOCATION:Kirchgemeindehaus Titthof
SUMMARY:Fabian Unteregger
CLASS:PUBLIC
DESCRIPTION:
ORGANIZER:
DTSTAMP:20260424T091818
ATTACH:https://www.hinto.ch/de/events/fabian-unteregger-02-05-2026-2000-kirchgemeindehaus-titthof-chur-e2317034-20.html
END:VEVENT
END:VCALENDAR
