BEGIN:VCALENDAR
VERSION:2.0
PRODID:hinto.net
X-PUBLISHED-TTL:P1W
BEGIN:VEVENT
UID:hinto.net-event_show-6126042
DTSTART:20260426T110000
SEQUENCE:0
CREATED:20250802T023359
LAST-MODIFIED:20250802T023359
TRANSP:OPAQUE
DTEND:20260426T000000
LOCATION:Theater am Hechtplatz
SUMMARY:Kammermusik@ZKO — Take Five
CLASS:PUBLIC
DESCRIPTION:
ORGANIZER:
DTSTAMP:20260424T063249
ATTACH:https://www.hinto.ch/de/events/kammermusik@zko-m-take-five-26-04-2026-1100-theater-am-hechtplatz-zuerich-e2173643-20.html
END:VEVENT
END:VCALENDAR
