BEGIN:VCALENDAR
VERSION:2.0
PRODID:hinto.net
X-PUBLISHED-TTL:P1W
BEGIN:VEVENT
UID:hinto.net-event_show-6930054
DTSTART:20260516T200000
SEQUENCE:0
CREATED:20260420T222355
LAST-MODIFIED:20260420T222355
TRANSP:OPAQUE

LOCATION:Toms Beer Box
SUMMARY:Proper Dose und Wave Cut
CLASS:PUBLIC
DESCRIPTION:
ORGANIZER:
DTSTAMP:20260421T092045
ATTACH:https://www.hinto.ch/de/events/proper-dose-und-wave-cut-16-05-2026-2000-toms-beer-box-chur-e2851871-20.html
END:VEVENT
END:VCALENDAR
