BEGIN:VCALENDAR
VERSION:2.0
PRODID:hinto.net
X-PUBLISHED-TTL:P1W
BEGIN:VEVENT
UID:hinto.net-event_show-6930091
DTSTART:20260528T170000
SEQUENCE:0
CREATED:20260420T222357
LAST-MODIFIED:20260420T222357
TRANSP:OPAQUE

LOCATION:Süd Bar
SUMMARY:Südbar
CLASS:PUBLIC
DESCRIPTION:
ORGANIZER:
DTSTAMP:20260421T055900
ATTACH:https://www.hinto.ch/de/events/suedbar-28-05-2026-1700-sued-bar-st-gallen-e2851878-20.html
END:VEVENT
END:VCALENDAR
