BEGIN:VCALENDAR
VERSION:2.0
PRODID:hinto.net
X-PUBLISHED-TTL:P1W
BEGIN:VEVENT
UID:hinto.net-event_show-6930190
DTSTART:20260519T190000
SEQUENCE:0
CREATED:20260420T222631
LAST-MODIFIED:20260420T222631
TRANSP:OPAQUE
DTEND:20260519T230000
LOCATION:Sunnegrund II
SUMMARY:BLS-AED-SRC Komplett
CLASS:PUBLIC
DESCRIPTION:
ORGANIZER:
DTSTAMP:20260424T074032
ATTACH:https://www.hinto.ch/de/events/bls-aed-src-komplett-19-05-2026-1900-sunnegrund-ii-steinhausen-e2851949-20.html
END:VEVENT
END:VCALENDAR
