BEGIN:VCALENDAR
VERSION:2.0
PRODID:hinto.net
X-PUBLISHED-TTL:P1W
BEGIN:VEVENT
UID:hinto.net-event_show-6930012
DTSTART:20260504T193000
SEQUENCE:0
CREATED:20260420T222346
LAST-MODIFIED:20260420T222346
TRANSP:OPAQUE

LOCATION:Werkstatt Chur
SUMMARY:Anna Rosenwasser
CLASS:PUBLIC
DESCRIPTION:
ORGANIZER:
DTSTAMP:20260421T055512
ATTACH:https://www.hinto.ch/de/events/anna-rosenwasser-04-05-2026-1930-werkstatt-chur-chur-e2851839-20.html
END:VEVENT
END:VCALENDAR
