BEGIN:VCALENDAR
VERSION:2.0
PRODID:hinto.net
X-PUBLISHED-TTL:P1W
BEGIN:VEVENT
UID:hinto.net-event_show-6925480
DTSTART:20260523T190000
SEQUENCE:0
CREATED:20260419T052232
LAST-MODIFIED:20260419T052232
TRANSP:OPAQUE

LOCATION:Bistro Panem
SUMMARY:Chrissi Band
CLASS:PUBLIC
DESCRIPTION:
ORGANIZER:
DTSTAMP:20260421T074020
ATTACH:https://www.hinto.ch/de/events/chrissi-band-23-05-2026-1900-bistro-panem-romanshorn-e2847533-20.html
END:VEVENT
END:VCALENDAR
