BEGIN:VCALENDAR
VERSION:2.0
PRODID:hinto.net
X-PUBLISHED-TTL:P1W
BEGIN:VEVENT
UID:hinto.net-event_show-6929837
DTSTART:20260527T190000
SEQUENCE:0
CREATED:20260420T222203
LAST-MODIFIED:20260420T222203
TRANSP:OPAQUE

LOCATION:Rümpeltum
SUMMARY:Küfa/Vokü
CLASS:PUBLIC
DESCRIPTION:
ORGANIZER:
DTSTAMP:20260424T153419
ATTACH:https://www.hinto.ch/de/events/kuefavokue-27-05-2026-1900-ruempeltum-st-gallen-e2217953-20.html
END:VEVENT
END:VCALENDAR
