BEGIN:VCALENDAR
VERSION:2.0
PRODID:hinto.net
X-PUBLISHED-TTL:P1W
BEGIN:VEVENT
UID:hinto.net-event_show-6939274
DTSTART:20260427T190000
SEQUENCE:0
CREATED:20260422T144553
LAST-MODIFIED:20260422T144553
TRANSP:OPAQUE
DTEND:20260427T230000
LOCATION:HKB Musik, Auditorium
SUMMARY:Too Much and Never Enough
CLASS:PUBLIC
DESCRIPTION:
ORGANIZER:
DTSTAMP:20260424T141829
ATTACH:https://www.hinto.ch/de/events/too-much-and-never-enough-27-04-2026-1900-hkb-musik-auditorium-bern-e2854684-20.html
END:VEVENT
END:VCALENDAR
