BEGIN:VCALENDAR
VERSION:2.0
PRODID:hinto.net
X-PUBLISHED-TTL:P1W
BEGIN:VEVENT
UID:hinto.net-event_show-6939337
DTSTART:20260710T193000
SEQUENCE:0
CREATED:20260422T170808
LAST-MODIFIED:20260422T170808
TRANSP:OPAQUE
DTEND:20260710T000000
LOCATION:Holligen Park
SUMMARY:Zirkus Chnopf - UFE
CLASS:PUBLIC
DESCRIPTION:
ORGANIZER:
DTSTAMP:20260425T035744
ATTACH:https://www.hinto.ch/de/events/zirkus-chnopf-ufe-10-07-2026-1930-holligen-park-bern-e2854695-20.html
END:VEVENT
END:VCALENDAR
