BEGIN:VCALENDAR
VERSION:2.0
PRODID:hinto.net
X-PUBLISHED-TTL:P1W
BEGIN:VEVENT
UID:hinto.net-event_show-6746322
DTSTART:20260429T200000
SEQUENCE:0
CREATED:20260224T081614
LAST-MODIFIED:20260224T081614
TRANSP:OPAQUE
DTEND:20260429T220000
LOCATION:Theater Uri
SUMMARY:#20 Greedi Üüsä
CLASS:PUBLIC
DESCRIPTION:
ORGANIZER:
DTSTAMP:20260420T212631
ATTACH:https://www.hinto.ch/de/events/20-greedi-ueuesae-29-04-2026-2000-theater-uri-altdorf-ur-e2705128-20.html
END:VEVENT
END:VCALENDAR
