BEGIN:VCALENDAR
VERSION:2.0
PRODID:hinto.net
X-PUBLISHED-TTL:P1W
BEGIN:VEVENT
UID:hinto.net-event_show-6863006
DTSTART:20260419T153000
SEQUENCE:0
CREATED:20260329T152041
LAST-MODIFIED:20260329T152041
TRANSP:OPAQUE
DTEND:20260419T160000
LOCATION:
SUMMARY:3+: Border Patrol New Zealand
CLASS:PUBLIC
DESCRIPTION:
ORGANIZER:
DTSTAMP:20260421T092300
ATTACH:https://www.hinto.ch/de/events/3+-border-patrol-new-zealand-19-04-2026-1530-e2793622-20.html
END:VEVENT
END:VCALENDAR
