BEGIN:VCALENDAR
VERSION:2.0
PRODID:hinto.net
X-PUBLISHED-TTL:P1W
BEGIN:VEVENT
UID:hinto.net-event_show-6443731
DTSTART:20261212T100000
SEQUENCE:0
CREATED:20251115T103619
LAST-MODIFIED:20251115T103619
TRANSP:OPAQUE
DTEND:20261212T170000
LOCATION:Sternensaal Bümpliz
SUMMARY:Berner Schallplatten & CD Börse
CLASS:PUBLIC
DESCRIPTION:
ORGANIZER:
DTSTAMP:20260424T044340
ATTACH:https://www.hinto.ch/de/events/berner-schallplatten-cd-boerse-12-12-2026-1000-sternensaal-buempliz-bern-e2443421-20.html
END:VEVENT
END:VCALENDAR
