BEGIN:VCALENDAR
VERSION:2.0
PRODID:hinto.net
X-PUBLISHED-TTL:P1W
BEGIN:VEVENT
UID:hinto.net-event_show-6663779
DTSTART:20261209T203000
SEQUENCE:0
CREATED:20260128T032413
LAST-MODIFIED:20260128T032413
TRANSP:OPAQUE

LOCATION:Werk 1
SUMMARY:A New Day
CLASS:PUBLIC
DESCRIPTION:
ORGANIZER:
DTSTAMP:20260421T001415
ATTACH:https://www.hinto.ch/de/events/a-new-day-09-12-2026-2030-werk-1-gossau-sg-e2634100-20.html
END:VEVENT
END:VCALENDAR
