BEGIN:VCALENDAR
VERSION:2.0
PRODID:hinto.net
X-PUBLISHED-TTL:P1W
BEGIN:VEVENT
UID:hinto.net-event_show-6903863
DTSTART:20260423T200000
SEQUENCE:0
CREATED:20260411T114622
LAST-MODIFIED:20260411T114622
TRANSP:OPAQUE

LOCATION:Zeughaus Kultur
SUMMARY:Abusitz
CLASS:PUBLIC
DESCRIPTION:
ORGANIZER:
DTSTAMP:20260420T004455
ATTACH:https://www.hinto.ch/de/events/abusitz-23-04-2026-2000-zeughaus-kultur-brig-e2829100-20.html
END:VEVENT
END:VCALENDAR
