BEGIN:VCALENDAR
VERSION:2.0
PRODID:hinto.net
X-PUBLISHED-TTL:P1W
BEGIN:VEVENT
UID:hinto.net-event_show-6924917
DTSTART:20260522T200000
SEQUENCE:0
CREATED:20260419T051932
LAST-MODIFIED:20260419T051932
TRANSP:OPAQUE
DTEND:20260522T230000
LOCATION:KultBau
SUMMARY:AION Quartett
CLASS:PUBLIC
DESCRIPTION:
ORGANIZER:
DTSTAMP:20260419T223434
ATTACH:https://www.hinto.ch/de/events/aion-quartett-22-05-2026-2000-kultbau-st-gallen-e2847222-20.html
END:VEVENT
END:VCALENDAR
