BEGIN:VCALENDAR
VERSION:2.0
PRODID:hinto.net
X-PUBLISHED-TTL:P1W
BEGIN:VEVENT
UID:hinto.net-event_show-6733070
DTSTART:20260626T200000
SEQUENCE:0
CREATED:20260220T033720
LAST-MODIFIED:20260220T033720
TRANSP:OPAQUE
DTEND:20260626T000000
LOCATION:Bernhard Theater
SUMMARY:Alice Schwarzer
CLASS:PUBLIC
DESCRIPTION:
ORGANIZER:
DTSTAMP:20260421T072302
ATTACH:https://www.hinto.ch/de/events/alice-schwarzer-26-06-2026-2000-bernhard-theater-zuerich-e2694704-20.html
END:VEVENT
END:VCALENDAR
