BEGIN:VCALENDAR
VERSION:2.0
PRODID:hinto.net
X-PUBLISHED-TTL:P1W
BEGIN:VEVENT
UID:hinto.net-event_show-6942199
DTSTART:20260601T160000
SEQUENCE:0
CREATED:20260423T090836
LAST-MODIFIED:20260423T090836
TRANSP:OPAQUE
DTEND:20260601T183000
LOCATION:DenkBar
SUMMARY:amm Café Med
CLASS:PUBLIC
DESCRIPTION:
ORGANIZER:
DTSTAMP:20260424T224531
ATTACH:https://www.hinto.ch/de/events/amm-cafe-med-01-06-2026-1600-denkbar-st-gallen-e2857350-20.html
END:VEVENT
END:VCALENDAR
