BEGIN:VCALENDAR
VERSION:2.0
PRODID:hinto.net
X-PUBLISHED-TTL:P1W
BEGIN:VEVENT
UID:hinto.net-event_show-6862735
DTSTART:20260419T124500
SEQUENCE:0
CREATED:20260329T150542
LAST-MODIFIED:20260329T150542
TRANSP:OPAQUE
DTEND:20260419T131500
LOCATION:
SUMMARY:ARD: Europamagazin
CLASS:PUBLIC
DESCRIPTION:
ORGANIZER:
DTSTAMP:20260419T222018
ATTACH:https://www.hinto.ch/de/events/ard-europamagazin-19-04-2026-1245-e2793351-20.html
END:VEVENT
END:VCALENDAR
