BEGIN:VCALENDAR
VERSION:2.0
PRODID:hinto.net
X-PUBLISHED-TTL:P1W
BEGIN:VEVENT
UID:hinto.net-event_show-6862739
DTSTART:20260419T153000
SEQUENCE:0
CREATED:20260329T150546
LAST-MODIFIED:20260329T150546
TRANSP:OPAQUE
DTEND:20260419T175900
LOCATION:
SUMMARY:ARD: Handball Final Four Finale
CLASS:PUBLIC
DESCRIPTION:
ORGANIZER:
DTSTAMP:20260420T010533
ATTACH:https://www.hinto.ch/de/events/ard-handball-final-four-finale-19-04-2026-1530-e2793355-20.html
END:VEVENT
END:VCALENDAR
