BEGIN:VCALENDAR
VERSION:2.0
PRODID:hinto.net
X-PUBLISHED-TTL:P1W
BEGIN:VEVENT
UID:hinto.net-event_show-6925728
DTSTART:20260704T180000
SEQUENCE:0
CREATED:20260419T052323
LAST-MODIFIED:20260419T052323
TRANSP:OPAQUE
DTEND:20260704T030000
LOCATION:MiNiCiRC
SUMMARY:Arx-en-ciel Openair
CLASS:PUBLIC
DESCRIPTION:
ORGANIZER:
DTSTAMP:20260419T204324
ATTACH:https://www.hinto.ch/de/events/arx-en-ciel-openair-04-07-2026-1800-minicirc-staefa-e2847669-20.html
END:VEVENT
END:VCALENDAR
