BEGIN:VCALENDAR
VERSION:2.0
PRODID:hinto.net
X-PUBLISHED-TTL:P1W
BEGIN:VEVENT
UID:hinto.net-event_show-6930185
DTSTART:20260425T200000
SEQUENCE:0
CREATED:20260420T222630
LAST-MODIFIED:20260420T222630
TRANSP:OPAQUE

LOCATION:Mühle Hunziken
SUMMARY:Ásgeir
CLASS:PUBLIC
DESCRIPTION:
ORGANIZER:
DTSTAMP:20260421T062843
ATTACH:https://www.hinto.ch/de/events/asgeir-25-04-2026-2000-muehle-hunziken-rubigen-e2851944-20.html
END:VEVENT
END:VCALENDAR
