BEGIN:VCALENDAR
VERSION:2.0
PRODID:hinto.net
X-PUBLISHED-TTL:P1W
BEGIN:VEVENT
UID:hinto.net-event_show-6925443
DTSTART:20260617T200000
SEQUENCE:0
CREATED:20260419T052224
LAST-MODIFIED:20260419T052224
TRANSP:OPAQUE

LOCATION:Casinotheater Winterthur
SUMMARY:Ass-Dur
CLASS:PUBLIC
DESCRIPTION:
ORGANIZER:
DTSTAMP:20260421T000724
ATTACH:https://www.hinto.ch/de/events/ass-dur-17-06-2026-2000-casinotheater-winterthur-winterthur-e2847506-20.html
END:VEVENT
END:VCALENDAR
