BEGIN:VCALENDAR
VERSION:2.0
PRODID:hinto.net
X-PUBLISHED-TTL:P1W
BEGIN:VEVENT
UID:hinto.net-event_show-6860876
DTSTART:20260613T140000
SEQUENCE:0
CREATED:20260328T083543
LAST-MODIFIED:20260328T083543
TRANSP:OPAQUE

LOCATION:Abbatiale
SUMMARY:Atelier créatif pour les enfants
CLASS:PUBLIC
DESCRIPTION:
ORGANIZER:
DTSTAMP:20260421T030340
ATTACH:https://www.hinto.ch/de/events/atelier-creatif-pour-les-enfants-13-06-2026-1400-abbatiale-payerne-e2791863-20.html
END:VEVENT
END:VCALENDAR
