BEGIN:VCALENDAR
VERSION:2.0
PRODID:hinto.net
X-PUBLISHED-TTL:P1W
BEGIN:VEVENT
UID:hinto.net-event_show-6606103
DTSTART:20260730T193000
SEQUENCE:0
CREATED:20260109T102207
LAST-MODIFIED:20260109T102207
TRANSP:OPAQUE
DTEND:20260730T214500
LOCATION:Schiffsteg Bürkliplatz
SUMMARY:BBQ-Schiff
CLASS:PUBLIC
DESCRIPTION:
ORGANIZER:
DTSTAMP:20260421T074228
ATTACH:https://www.hinto.ch/de/events/bbq-schiff-30-07-2026-1930-schiffsteg-buerkliplatz-zuerich-e2586133-20.html
END:VEVENT
END:VCALENDAR
