BEGIN:VCALENDAR
VERSION:2.0
PRODID:hinto.net
X-PUBLISHED-TTL:P1W
BEGIN:VEVENT
UID:hinto.net-event_show-6922021
DTSTART:20260613T160000
SEQUENCE:0
CREATED:20260417T072111
LAST-MODIFIED:20260417T072111
TRANSP:OPAQUE
DTEND:20260613T190000
LOCATION:Schulhaus Guthirt
SUMMARY:Bee-Bot auf Schatzsuche
CLASS:PUBLIC
DESCRIPTION:
ORGANIZER:
DTSTAMP:20260421T001320
ATTACH:https://www.hinto.ch/de/events/bee-bot-auf-schatzsuche-13-06-2026-1600-schulhaus-guthirt-zug-e2844737-20.html
END:VEVENT
END:VCALENDAR
