BEGIN:VCALENDAR
VERSION:2.0
PRODID:hinto.net
X-PUBLISHED-TTL:P1W
BEGIN:VEVENT
UID:hinto.net-event_show-6925327
DTSTART:20260425T093000
SEQUENCE:0
CREATED:20260419T052154
LAST-MODIFIED:20260419T052154
TRANSP:OPAQUE

LOCATION:Daytona - Gesundheitszentrum
SUMMARY:Bern liest ein Buch: Gym mal anders
CLASS:PUBLIC
DESCRIPTION:
ORGANIZER:
DTSTAMP:20260420T215830
ATTACH:https://www.hinto.ch/de/events/bern-liest-ein-buch-gym-mal-anders-25-04-2026-0930-daytona-gesundheitszentrum-thun-e2847417-20.html
END:VEVENT
END:VCALENDAR
