BEGIN:VCALENDAR
VERSION:2.0
PRODID:hinto.net
X-PUBLISHED-TTL:P1W
BEGIN:VEVENT
UID:hinto.net-event_show-6915554
DTSTART:20270221T113000
SEQUENCE:0
CREATED:20260416T040528
LAST-MODIFIED:20260416T040528
TRANSP:OPAQUE
DTEND:20270221T000000
LOCATION:Bernhard Theater
SUMMARY:Bernhard Matinée
CLASS:PUBLIC
DESCRIPTION:
ORGANIZER:
DTSTAMP:20260424T091839
ATTACH:https://www.hinto.ch/de/events/bernhard-matinee-21-02-2027-1130-bernhard-theater-zuerich-e1967094-20.html
END:VEVENT
END:VCALENDAR
