BEGIN:VCALENDAR
VERSION:2.0
PRODID:hinto.net
X-PUBLISHED-TTL:P1W
BEGIN:VEVENT
UID:hinto.net-event_show-6925428
DTSTART:20260524T180000
SEQUENCE:0
CREATED:20260419T052221
LAST-MODIFIED:20260419T052221
TRANSP:OPAQUE

LOCATION:Theater am Gleis
SUMMARY:Black Skinned, White Masked
CLASS:PUBLIC
DESCRIPTION:
ORGANIZER:
DTSTAMP:20260421T061252
ATTACH:https://www.hinto.ch/de/events/black-skinned-white-masked-24-05-2026-1800-theater-am-gleis-winterthur-e2847492-20.html
END:VEVENT
END:VCALENDAR
