BEGIN:VCALENDAR
VERSION:2.0
PRODID:hinto.net
X-PUBLISHED-TTL:P1W
BEGIN:VEVENT
UID:hinto.net-event_show-6903918
DTSTART:20260417T210000
SEQUENCE:0
CREATED:20260411T114647
LAST-MODIFIED:20260411T114647
TRANSP:OPAQUE

LOCATION:Cafe Bar Mokka
SUMMARY:BLACK TOASTER
CLASS:PUBLIC
DESCRIPTION:
ORGANIZER:
DTSTAMP:20260419T234403
ATTACH:https://www.hinto.ch/de/events/black-toaster-17-04-2026-2100-cafe-bar-mokka-thun-e2829143-20.html
END:VEVENT
END:VCALENDAR
