BEGIN:VCALENDAR
VERSION:2.0
PRODID:hinto.net
X-PUBLISHED-TTL:P1W
BEGIN:VEVENT
UID:hinto.net-event_show-4845320
DTSTART:20270902T100000
SEQUENCE:0
CREATED:20240902T044504
LAST-MODIFIED:20240902T044504
TRANSP:OPAQUE
DTEND:20270902T170000
LOCATION:Museum Luzern
SUMMARY:Blickwinkel-Kabinett
CLASS:PUBLIC
DESCRIPTION:
ORGANIZER:
DTSTAMP:20260421T083627
ATTACH:https://www.hinto.ch/de/events/blickwinkel-kabinett-02-09-2027-1000-museum-luzern-luzern-e280769-20.html
END:VEVENT
END:VCALENDAR
