BEGIN:VCALENDAR
VERSION:2.0
PRODID:hinto.net
X-PUBLISHED-TTL:P1W
BEGIN:VEVENT
UID:hinto.net-event_show-4701562
DTSTART:20270407T100000
SEQUENCE:0
CREATED:20240825T111317
LAST-MODIFIED:20240825T111317
TRANSP:OPAQUE
DTEND:20270407T170000
LOCATION:Museum Luzern
SUMMARY:Blickwinkel-Kabinett
CLASS:PUBLIC
DESCRIPTION:
ORGANIZER:
DTSTAMP:20260421T073133
ATTACH:https://www.hinto.ch/de/events/blickwinkel-kabinett-07-04-2027-1000-museum-luzern-luzern-e280769-20.html
END:VEVENT
END:VCALENDAR
