BEGIN:VCALENDAR
VERSION:2.0
PRODID:hinto.net
X-PUBLISHED-TTL:P1W
BEGIN:VEVENT
UID:hinto.net-event_show-5505467
DTSTART:20280113T100000
SEQUENCE:0
CREATED:20250113T053552
LAST-MODIFIED:20250113T053552
TRANSP:OPAQUE
DTEND:20280113T170000
LOCATION:Museum Luzern
SUMMARY:Blickwinkel-Kabinett
CLASS:PUBLIC
DESCRIPTION:
ORGANIZER:
DTSTAMP:20260424T065937
ATTACH:https://www.hinto.ch/de/events/blickwinkel-kabinett-13-01-2028-1000-museum-luzern-luzern-e280769-20.html
END:VEVENT
END:VCALENDAR
