BEGIN:VCALENDAR
VERSION:2.0
PRODID:hinto.net
X-PUBLISHED-TTL:P1W
BEGIN:VEVENT
UID:hinto.net-event_show-5360666
DTSTART:20271215T100000
SEQUENCE:0
CREATED:20241215T065228
LAST-MODIFIED:20241215T065228
TRANSP:OPAQUE
DTEND:20271215T170000
LOCATION:Museum Luzern
SUMMARY:Blickwinkel-Kabinett
CLASS:PUBLIC
DESCRIPTION:
ORGANIZER:
DTSTAMP:20260421T102654
ATTACH:https://www.hinto.ch/de/events/blickwinkel-kabinett-15-12-2027-1000-museum-luzern-luzern-e280769-20.html
END:VEVENT
END:VCALENDAR
