BEGIN:VCALENDAR
VERSION:2.0
PRODID:hinto.net
X-PUBLISHED-TTL:P1W
BEGIN:VEVENT
UID:hinto.net-event_show-5619802
DTSTART:20280219T100000
SEQUENCE:0
CREATED:20250219T091226
LAST-MODIFIED:20250219T091226
TRANSP:OPAQUE
DTEND:20280219T170000
LOCATION:Museum Luzern
SUMMARY:Blickwinkel-Kabinett
CLASS:PUBLIC
DESCRIPTION:
ORGANIZER:
DTSTAMP:20260424T043411
ATTACH:https://www.hinto.ch/de/events/blickwinkel-kabinett-19-02-2028-1000-museum-luzern-luzern-e280769-20.html
END:VEVENT
END:VCALENDAR
