BEGIN:VCALENDAR
VERSION:2.0
PRODID:hinto.net
X-PUBLISHED-TTL:P1W
BEGIN:VEVENT
UID:hinto.net-event_show-5258207
DTSTART:20271125T100000
SEQUENCE:0
CREATED:20241125T055848
LAST-MODIFIED:20241125T055848
TRANSP:OPAQUE
DTEND:20271125T170000
LOCATION:Museum Luzern
SUMMARY:Blickwinkel-Kabinett
CLASS:PUBLIC
DESCRIPTION:
ORGANIZER:
DTSTAMP:20260421T091447
ATTACH:https://www.hinto.ch/de/events/blickwinkel-kabinett-25-11-2027-1000-museum-luzern-luzern-e280769-20.html
END:VEVENT
END:VCALENDAR
