BEGIN:VCALENDAR
VERSION:2.0
PRODID:hinto.net
X-PUBLISHED-TTL:P1W
BEGIN:VEVENT
UID:hinto.net-event_show-4979372
DTSTART:20270928T100000
SEQUENCE:0
CREATED:20240928T105859
LAST-MODIFIED:20240928T105859
TRANSP:OPAQUE
DTEND:20270928T170000
LOCATION:Museum Luzern
SUMMARY:Blickwinkel-Kabinett
CLASS:PUBLIC
DESCRIPTION:
ORGANIZER:
DTSTAMP:20260421T102611
ATTACH:https://www.hinto.ch/de/events/blickwinkel-kabinett-28-09-2027-1000-museum-luzern-luzern-e280769-20.html
END:VEVENT
END:VCALENDAR
