BEGIN:VCALENDAR
VERSION:2.0
PRODID:hinto.net
X-PUBLISHED-TTL:P1W
BEGIN:VEVENT
UID:hinto.net-event_show-4979845
DTSTART:20270929T100000
SEQUENCE:0
CREATED:20240929T062103
LAST-MODIFIED:20240929T062103
TRANSP:OPAQUE
DTEND:20270929T170000
LOCATION:Museum Luzern
SUMMARY:Blickwinkel-Kabinett
CLASS:PUBLIC
DESCRIPTION:
ORGANIZER:
DTSTAMP:20260424T055042
ATTACH:https://www.hinto.ch/de/events/blickwinkel-kabinett-29-09-2027-1000-museum-luzern-luzern-e280769-20.html
END:VEVENT
END:VCALENDAR
