BEGIN:VCALENDAR
VERSION:2.0
PRODID:hinto.net
X-PUBLISHED-TTL:P1W
BEGIN:VEVENT
UID:hinto.net-event_show-6915696
DTSTART:20260511T183000
SEQUENCE:0
CREATED:20260416T040927
LAST-MODIFIED:20260416T040927
TRANSP:OPAQUE
DTEND:20260511T220000
LOCATION:Samariter Zürich-Hard
SUMMARY:BLS-AED-SRC Komplett
CLASS:PUBLIC
DESCRIPTION:
ORGANIZER:
DTSTAMP:20260421T081520
ATTACH:https://www.hinto.ch/de/events/bls-aed-src-komplett-11-05-2026-1830-samariter-zuerich-hard-zuerich-e2839230-20.html
END:VEVENT
END:VCALENDAR
